BEGIN:VCALENDAR
VERSION:2.0
PRODID:icalendar-ruby
CALSCALE:GREGORIAN
BEGIN:VEVENT
DTSTAMP:20260422T131516Z
UID:8fc451f8-1acb-42f9-9c87-17c87fd275f1
DTSTART;VALUE=DATE:20220623
DESCRIPTION:Property ID# 537416\, Locatoin: Bayleys Auction Rooms \, Time: 
 4:00PM
SUMMARY:Auction for 
END:VEVENT
END:VCALENDAR
