BEGIN:VCALENDAR
VERSION:2.0
PRODID:icalendar-ruby
CALSCALE:GREGORIAN
BEGIN:VEVENT
DTSTAMP:20260423T070743Z
UID:e9e78934-d515-4e7f-b686-8313d6776065
DTSTART;VALUE=DATE:20240926
DESCRIPTION:Property ID# 580535\, Locatoin: 182 Devonport Rd\, Tauranga 311
 0\, Time: 4:20PM
SUMMARY:Auction for 
END:VEVENT
END:VCALENDAR
